BEGIN:VCALENDAR
VERSION:2.0
PRODID:-//Squarespace Inc/Squarespace 6//v6//EN
BEGIN:VEVENT
UID:5ef05fa971f40b58b908819b@squarespace.com
DTSTAMP:20200622T082140Z
DTSTART:20200625T073000Z
DTEND:20200625T083000Z
SUMMARY:WINTER WEBINAR SERIES 
END:VEVENT
END:VCALENDAR
