BEGIN:VCALENDAR
VERSION:2.0
PRODID:-//Squarespace Inc/Squarespace 6//v6//EN
BEGIN:VEVENT
UID:5d7d5b83191cf100839c53ca@squarespace.com
DTSTAMP:20190920T093434Z
DTSTART:20170322T200000Z
DTEND:20170325T033000Z
SUMMARY:Nelson
END:VEVENT
END:VCALENDAR
