BEGIN:VCALENDAR
VERSION:2.0
PRODID:-//Squarespace Inc/Squarespace 6//v6//EN
BEGIN:VEVENT
UID:5d7d646a6c4e10420f73a25e@squarespace.com
DTSTAMP:20190920T093551Z
DTSTART:20180731T210000Z
DTEND:20180831T050000Z
SUMMARY:Myopia Road Show
END:VEVENT
END:VCALENDAR
