BEGIN:VCALENDAR
VERSION:2.0
PRODID:-//Squarespace Inc/Squarespace 6//v6//EN
BEGIN:VEVENT
UID:5df1f0295b62b55cb762fdab@squarespace.com
DTSTAMP:20200317T080238Z
DTSTART:20200327T200000Z
DTEND:20200328T030000Z
SUMMARY:Myopia Profile Live. CANCELLED WITH REGRET
GEO:-41.295657;174.777018
LOCATION:Harbourside Function Venue\, Taranaki Street\, Wellington
END:VEVENT
END:VCALENDAR
