BEGIN:VCALENDAR
VERSION:2.0
PRODID:-//Squarespace Inc/Squarespace 6//v6//EN
BEGIN:VEVENT
UID:5d7d581a8fde852fd5d4870c@squarespace.com
DTSTAMP:20190920T093105Z
DTSTART:20150318T200000Z
DTEND:20150322T033000Z
SUMMARY:QUEENSTOWN 2015
GEO:-45.031162;168.662644
LOCATION:queenstown
END:VEVENT
END:VCALENDAR
