BEGIN:VCALENDAR
VERSION:2.0
PRODID:-//Squarespace Inc/Squarespace 6//v6//EN
BEGIN:VEVENT
UID:5d7d60a6541a0b5b7391e7cb@squarespace.com
DTSTAMP:20190914T215531Z
DTSTART:20180317T200000Z
DTEND:20180318T040000Z
SUMMARY:CCLS one day conference
GEO:-41.28646;174.776236
LOCATION:wellington
END:VEVENT
END:VCALENDAR
