BEGIN:VCALENDAR
VERSION:2.0
PRODID:-//Squarespace Inc/Squarespace 6//v6//EN
BEGIN:VEVENT
UID:5faa3919447c973dee28940f@squarespace.com
DTSTAMP:20201130T225242Z
DTSTART:20210227T190000Z
DTEND:20210228T043000Z
SUMMARY:CCLS 1-DAY CONFERENCE 2021
GEO:-41.290049;174.780102
LOCATION:Harbourside Function Centre\, 4 Taranaki Street\, Wellington\, Wel
 lington\, 6011\, New Zealand
END:VEVENT
END:VCALENDAR
