BEGIN:VCALENDAR
VERSION:2.0
PRODID:-//Squarespace Inc/Squarespace 6//v6//EN
BEGIN:VEVENT
UID:5d7d69831fb8f92f1aec479b@squarespace.com
DTSTAMP:20200317T080225Z
DTSTART:20200328T183000Z
DTEND:20200329T050000Z
SUMMARY:CCLS 1-DAY CONFERENCE. CANCELLED WITH REGRET
GEO:-41.295657;174.777018
LOCATION:Harbourside Function Venue\, Taranaki Street\, Wellington
END:VEVENT
END:VCALENDAR
